BEGIN:VCALENDAR
VERSION:2.0
PRODID:-//wp-events-plugin.com//7.2.3.1//EN
TZID:Europe/Brussels
X-WR-TIMEZONE:Europe/Brussels
BEGIN:VEVENT
UID:161@rclm.org
DTSTART;TZID=Europe/Brussels:20260815T100000
DTEND;TZID=Europe/Brussels:20260815T180000
DTSTAMP:20260209T115421Z
URL:https://www.rclm.org/evenements/15-aout/
SUMMARY:Gros modèles\, warbirds\, jets & Barbecue du 15 août
DESCRIPTION:Gros modèles\, warbirds\, jets\, et tout le reste…\n\n\n\nAu
  menu :\n\n 	Apéritif\n 	Barbecue\n 	Dessert\n\nParticipation aux frais :
  (payable sur place)\n\n 	20€ (boissons non comprises)\n\nInscriptions :
 \n\n 	Les inscriptions sont ouvertes jusqu'au jeudi 13 août 2025 à 08h.\
 n
CATEGORIES:Dérogation bruit,Membres,Membres et familles,Outdoor,Repas,Vol
LOCATION:Terrain de Chastre (à proximité de Mellery)\, Rue Adjudant Kumps
 \, Chastre (à proximité du village de Mellery)\, Brabant Wallon\, 1450\,
  Région Wallone\, Belgique
X-APPLE-STRUCTURED-LOCATION;VALUE=URI;X-ADDRESS=Rue Adjudant Kumps\, Chastr
 e (à proximité du village de Mellery)\, Brabant Wallon\, 1450\, Région 
 Wallone\, Belgique;X-APPLE-RADIUS=100;X-TITLE=Terrain de Chastre (à proxi
 mité de Mellery):geo:0,0
END:VEVENT
BEGIN:VTIMEZONE
TZID:Europe/Brussels
X-LIC-LOCATION:Europe/Brussels
BEGIN:DAYLIGHT
DTSTART:20260329T030000
TZOFFSETFROM:+0100
TZOFFSETTO:+0200
TZNAME:CEST
END:DAYLIGHT
END:VTIMEZONE
END:VCALENDAR