BEGIN:VCALENDAR
VERSION:2.0
PRODID:-//wp-events-plugin.com//7.2.3.1//EN
TZID:Europe/Brussels
X-WR-TIMEZONE:Europe/Brussels
BEGIN:VEVENT
UID:160@rclm.org
DTSTART;TZID=Europe/Brussels:20260721T100000
DTEND;TZID=Europe/Brussels:20260721T160000
DTSTAMP:20260209T115326Z
URL:https://www.rclm.org/evenements/21-juillet/
SUMMARY:Challenge Briot & Barbecue familial du 21 juillet
DESCRIPTION:\n\nAu menu :\n• Barbecue de viandes.\n• Salades variées\n
 • Pommes de terre et pâtes\n• Dessert.\n\nParticipation au frais :\n
 • 20\,00€\n\n&nbsp\;\n\nAttention :\n• Les inscriptions au repas ser
 ont fermées le jeudi 17 juillet à 10h00.\n• Idéalement vous devriez a
 voir un compte sur notre site. Ce n'est pas votre cas ? S'enregistrer.\n
 • Mot de passe perdu ou oublié ? Réinitialiser mon mot de passe
CATEGORIES:Membres et familles,Outdoor,Repas,Vol
LOCATION:Terrain de Chastre (à proximité de Mellery)\, Rue Adjudant Kumps
 \, Chastre (à proximité du village de Mellery)\, Brabant Wallon\, 1450\,
  Région Wallone\, Belgique
X-APPLE-STRUCTURED-LOCATION;VALUE=URI;X-ADDRESS=Rue Adjudant Kumps\, Chastr
 e (à proximité du village de Mellery)\, Brabant Wallon\, 1450\, Région 
 Wallone\, Belgique;X-APPLE-RADIUS=100;X-TITLE=Terrain de Chastre (à proxi
 mité de Mellery):geo:0,0
END:VEVENT
BEGIN:VTIMEZONE
TZID:Europe/Brussels
X-LIC-LOCATION:Europe/Brussels
BEGIN:DAYLIGHT
DTSTART:20260329T030000
TZOFFSETFROM:+0100
TZOFFSETTO:+0200
TZNAME:CEST
END:DAYLIGHT
END:VTIMEZONE
END:VCALENDAR