BEGIN:VCALENDAR
VERSION:2.0
PRODID:-//wp-events-plugin.com//7.2.3.1//EN
TZID:Europe/Brussels
X-WR-TIMEZONE:Europe/Brussels
BEGIN:VEVENT
UID:202@rclm.org
DTSTART;TZID=Europe/Brussels:20260314T150000
DTEND;TZID=Europe/Brussels:20260314T170000
DTSTAMP:20250918T072201Z
URL:https://www.rclm.org/evenements/indoor-sart-dames-avelines-16/
SUMMARY:Indoor - Sart-Dames-Avelines
DESCRIPTION:Participation aux frais : 5€ (gratuité pour les juniors)
CATEGORIES:Indoor,Inscription sur place,Ouvert à tous
LOCATION:Complexe Sportif de Villers-la-Ville\, Chemin Bruyère du Coq\, 51
 \, Villers-la-Ville (Sart-Dames-Avelines)\, Brabant Wallon\, 1495\, Régio
 n Wallone\, Belgique
X-APPLE-STRUCTURED-LOCATION;VALUE=URI;X-ADDRESS=Chemin Bruyère du Coq\, 51
 \, Villers-la-Ville (Sart-Dames-Avelines)\, Brabant Wallon\, 1495\, Régio
 n Wallone\, Belgique;X-APPLE-RADIUS=100;X-TITLE=Complexe Sportif de Viller
 s-la-Ville:geo:0,0
END:VEVENT
BEGIN:VTIMEZONE
TZID:Europe/Brussels
X-LIC-LOCATION:Europe/Brussels
BEGIN:STANDARD
DTSTART:20251026T020000
TZOFFSETFROM:+0200
TZOFFSETTO:+0100
TZNAME:CET
END:STANDARD
END:VTIMEZONE
END:VCALENDAR