BEGIN:VCALENDAR
VERSION:2.0
PRODID:-//wp-events-plugin.com//7.2.3.1//EN
TZID:Europe/Brussels
X-WR-TIMEZONE:Europe/Brussels
BEGIN:VEVENT
UID:158@rclm.org
DTSTART;TZID=Europe/Brussels:20260705T100000
DTEND;TZID=Europe/Brussels:20260705T180000
DTSTAMP:20260116T145805Z
URL:https://www.rclm.org/evenements/journee-planeurs-remorques/
SUMMARY:Journée planeurs remorqués
DESCRIPTION:Informations \nLe Royal Club Luc Mommer a le plaisir de vous ac
 cueillir à sa rencontre annuelle de planeurs remorqués du dimanche 5 jui
 llet 2026. Cette journée placée sous le signe de la convivialité rassem
 blera des pilotes passionnés venus partager leur savoir-faire\, présente
 r leurs modèles et échanger autour de leur passion commune.\nCet événe
 ment est réservé aux pilotes et à un public averti\, en raison de la te
 chnicité des démonstrations et des mesures de sécurité propres à la d
 iscipline.\nUne belle occasion de découvrir des machines d’exception\, 
 d’échanger entre passionnés et de vivre un moment riche en spectacle e
 t en rencontres !\n\nInscriptions\nLes inscriptions se font via la page de
  notre site Internet dédiée à l'activité à l'adresse suivante :\n\nht
 tp://www.rclm.org/planeurs/
CATEGORIES:Dérogation altitude,Dérogation bruit,Outdoor,Ouvert à
 tous,Repas,Vol
LOCATION:Terrain de Chastre (à proximité de Mellery)\, Rue Adjudant Kumps
 \, Chastre (à proximité du village de Mellery)\, Brabant Wallon\, 1450\,
  Région Wallone\, Belgique
X-APPLE-STRUCTURED-LOCATION;VALUE=URI;X-ADDRESS=Rue Adjudant Kumps\, Chastr
 e (à proximité du village de Mellery)\, Brabant Wallon\, 1450\, Région 
 Wallone\, Belgique;X-APPLE-RADIUS=100;X-TITLE=Terrain de Chastre (à proxi
 mité de Mellery):geo:0,0
END:VEVENT
BEGIN:VTIMEZONE
TZID:Europe/Brussels
X-LIC-LOCATION:Europe/Brussels
BEGIN:DAYLIGHT
DTSTART:20260329T030000
TZOFFSETFROM:+0100
TZOFFSETTO:+0200
TZNAME:CEST
END:DAYLIGHT
END:VTIMEZONE
END:VCALENDAR