BEGIN:VCALENDAR
VERSION:2.0
PRODID:-//wp-events-plugin.com//7.2.3.1//EN
TZID:Europe/Brussels
X-WR-TIMEZONE:Europe/Brussels
BEGIN:VEVENT
UID:209@rclm.org
DTSTART;TZID=Europe/Brussels:20260502T180000
DTEND;TZID=Europe/Brussels:20260502T220000
DTSTAMP:20260421T183041Z
URL:https://www.rclm.org/evenements/reunion-club-du-samedi-2-mai-2026-repa
 s/
SUMMARY:Réunion Club du samedi 2 mai 2026 - Repas
DESCRIPTION:Repas : Spaghetti bolognaise + dessert – 10 €\n\n
LOCATION:Terrain de Chastre (à proximité de Mellery)\, Rue Adjudant Kumps
 \, Chastre (à proximité du village de Mellery)\, Brabant Wallon\, 1450\,
  Région Wallone\, Belgique
X-APPLE-STRUCTURED-LOCATION;VALUE=URI;X-ADDRESS=Rue Adjudant Kumps\, Chastr
 e (à proximité du village de Mellery)\, Brabant Wallon\, 1450\, Région 
 Wallone\, Belgique;X-APPLE-RADIUS=100;X-TITLE=Terrain de Chastre (à proxi
 mité de Mellery):geo:0,0
END:VEVENT
BEGIN:VTIMEZONE
TZID:Europe/Brussels
X-LIC-LOCATION:Europe/Brussels
BEGIN:DAYLIGHT
DTSTART:20260329T030000
TZOFFSETFROM:+0100
TZOFFSETTO:+0200
TZNAME:CEST
END:DAYLIGHT
END:VTIMEZONE
END:VCALENDAR