BEGIN:VCALENDAR
VERSION:2.0
PRODID:-//wp-events-plugin.com//7.2.3.1//EN
TZID:Europe/Brussels
X-WR-TIMEZONE:Europe/Brussels
BEGIN:VEVENT
UID:207@rclm.org
DTSTART;TZID=Europe/Brussels:20260312T080000
DTEND;TZID=Europe/Brussels:20260312T173000
DTSTAMP:20260306T202123Z
URL:https://www.rclm.org/evenements/roulage-terrain/
SUMMARY:Journée roulage terrain
DESCRIPTION:\nLe jeudi 12 mars 2026\, entre 8h et 9h\, un rouleau sera livr
 é sur notre terrain pour toute la journée. Pour que le terrain soit prê
 t et en parfait état\, nous avons besoin de votre aide\nNous invitons tou
 s ceux qui souhaitent donner un coup de main à se joindre à nous pour ro
 uler le terrain. Pas besoin d’être un expert : votre enthousiasme et vo
 tre bonne humeur suffisent !\nLa journée est organisée en créneaux de 3
 0 minutes pour faciliter l’organisation\, mais rien ne vous empêche de 
 vous inscrire à plusieurs créneaux si vous avez du temps à partager. Ch
 aque petit geste compte\, et ensemble nous ferons une grande différence !
 \nInscriptions : https://www.rclm.org/rouleau/\nPour éviter les doublons 
 et mieux coordonner les participants\, merci de consulter la liste des ins
 crits avant de valider votre inscription : liste des inscrits.\nNous compt
 ons sur vous pour rendre cette journée agréable et efficace\, et surtout
  pour passer un bon moment ensemble autour d’une belle action pour notre
  terrain !
CATEGORIES:Entretien terrain
LOCATION:Terrain de Chastre (à proximité de Mellery)\, Rue Adjudant Kumps
 \, Chastre (à proximité du village de Mellery)\, Brabant Wallon\, 1450\,
  Région Wallone\, Belgique
X-APPLE-STRUCTURED-LOCATION;VALUE=URI;X-ADDRESS=Rue Adjudant Kumps\, Chastr
 e (à proximité du village de Mellery)\, Brabant Wallon\, 1450\, Région 
 Wallone\, Belgique;X-APPLE-RADIUS=100;X-TITLE=Terrain de Chastre (à proxi
 mité de Mellery):geo:0,0
END:VEVENT
BEGIN:VTIMEZONE
TZID:Europe/Brussels
X-LIC-LOCATION:Europe/Brussels
BEGIN:STANDARD
DTSTART:20251026T020000
TZOFFSETFROM:+0200
TZOFFSETTO:+0100
TZNAME:CET
END:STANDARD
END:VTIMEZONE
END:VCALENDAR