BEGIN:VCALENDAR
VERSION:2.0
PRODID:-//wp-events-plugin.com//7.2.3.1//EN
TZID:Europe/Brussels
X-WR-TIMEZONE:Europe/Brussels
BEGIN:VEVENT
UID:208@rclm.org
DTSTART;TZID=Europe/Brussels:20260307T130000
DTEND;TZID=Europe/Brussels:20260307T170000
DTSTAMP:20260306T204809Z
URL:https://www.rclm.org/evenements/session-brevets-et-mesures-de-bruit/
SUMMARY:Session brevets et mesures de bruit
DESCRIPTION:SESSION BREVETS ET MESURES DE BRUIT - SAMEDI 7 MARS À PARTIR D
 E 13H AU TERRAIN\nÇa y est\, la saison démarre !\nIl est donc temps de v
 ous mettre en règle administrativement afin de voler en toute sérénité
  dans les semaines à venir.\nUne session de passage des brevets (théoriq
 ues et pratiques) sera organisée le samedi 7 mars à partir de 13h au ter
 rain.\nPar ailleurs\, Yvan Lescot se propose d’effectuer les mesures de 
 bruit sur tous les modèles qui lui seront présentés au cours de l’apr
 ès-midi.\nUne excellente occasion pour chacun de se mettre en conformité
  en ce début de saison !
CATEGORIES:Membres,Vol
LOCATION:Terrain de Chastre (à proximité de Mellery)\, Rue Adjudant Kumps
 \, Chastre (à proximité du village de Mellery)\, Brabant Wallon\, 1450\,
  Région Wallone\, Belgique
X-APPLE-STRUCTURED-LOCATION;VALUE=URI;X-ADDRESS=Rue Adjudant Kumps\, Chastr
 e (à proximité du village de Mellery)\, Brabant Wallon\, 1450\, Région 
 Wallone\, Belgique;X-APPLE-RADIUS=100;X-TITLE=Terrain de Chastre (à proxi
 mité de Mellery):geo:0,0
END:VEVENT
BEGIN:VTIMEZONE
TZID:Europe/Brussels
X-LIC-LOCATION:Europe/Brussels
BEGIN:STANDARD
DTSTART:20251026T020000
TZOFFSETFROM:+0200
TZOFFSETTO:+0100
TZNAME:CET
END:STANDARD
END:VTIMEZONE
END:VCALENDAR